BEGIN:VCALENDAR
VERSION:2.0
PRODID:-//Hill Farm Equestrian Centre - ECPv6.15.20//NONSGML v1.0//EN
CALSCALE:GREGORIAN
METHOD:PUBLISH
X-WR-CALNAME:Hill Farm Equestrian Centre
X-ORIGINAL-URL:https://hillfarmec.co.uk
X-WR-CALDESC:Events for Hill Farm Equestrian Centre
REFRESH-INTERVAL;VALUE=DURATION:PT1H
X-Robots-Tag:noindex
X-PUBLISHED-TTL:PT1H
BEGIN:VTIMEZONE
TZID:UTC
BEGIN:STANDARD
TZOFFSETFROM:+0000
TZOFFSETTO:+0000
TZNAME:UTC
DTSTART:20240101T000000
END:STANDARD
END:VTIMEZONE
BEGIN:VEVENT
DTSTART;TZID=UTC:20250805T140000
DTEND;TZID=UTC:20250805T160000
DTSTAMP:20260424T204208
CREATED:20210610T123324Z
LAST-MODIFIED:20250714T092738Z
UID:609-1754402400-1754409600@hillfarmec.co.uk
SUMMARY:NOVICE 2 Hour Jump Lesson
DESCRIPTION:NOVICE 2 hour Confidence giving group jumping lesson.  \nThis is a great lesson for those wanting to try jumping or for those that are nervous jumping. \nCorrectly fitting hats\, footwear and body protectors must be worn. \n£45  \nPlease email Hazel to book hillfarmec@hotmail.co.uk
URL:https://hillfarmec.co.uk/event/jump/
LOCATION:Hill Farm Equestrian Centre\, Hill Farm Lane\, Chelmondiston\, Suffolk\, IP9 1JU
CATEGORIES:Jump Lesson
ATTACH;FMTTYPE=image/jpeg:https://hillfarmec.co.uk/wp-content/uploads/2021/06/IMG_5813-e1674146534103.jpg
ORGANIZER;CN="HFEC":MAILTO:hillfarmec@hotmail.co.uk
END:VEVENT
END:VCALENDAR