BEGIN:VCALENDAR
VERSION:2.0
PRODID:-//Hill Farm Equestrian Centre - ECPv6.15.20//NONSGML v1.0//EN
CALSCALE:GREGORIAN
METHOD:PUBLISH
X-ORIGINAL-URL:https://hillfarmec.co.uk
X-WR-CALDESC:Events for Hill Farm Equestrian Centre
REFRESH-INTERVAL;VALUE=DURATION:PT1H
X-Robots-Tag:noindex
X-PUBLISHED-TTL:PT1H
BEGIN:VTIMEZONE
TZID:UTC
BEGIN:STANDARD
TZOFFSETFROM:+0000
TZOFFSETTO:+0000
TZNAME:UTC
DTSTART:20180101T000000
END:STANDARD
END:VTIMEZONE
BEGIN:VEVENT
DTSTART;TZID=UTC:20190823T100000
DTEND;TZID=UTC:20190823T130000
DTSTAMP:20260425T004458
CREATED:20190731T115335Z
LAST-MODIFIED:20190731T115335Z
UID:197-1566554400-1566565200@hillfarmec.co.uk
SUMMARY:Polocrosse Training Morning
DESCRIPTION:This is a great introduction to PoloCrosse. Learn the rules\, stick and ball on foot practice\, throw and catch practice plus games on the ponies. \n£10 Pony Club Members / £15 Non Pony Club Members.\nAll ages and abilities welcome. \nEmail Hazel to book in hillfarmec@hotmail.co.uk
URL:https://hillfarmec.co.uk/event/polocrosse-training-morning/
LOCATION:Hill Farm Equestrian Centre\, Hill Farm Lane\, Chelmondiston\, Suffolk\, IP9 1JU
CATEGORIES:Polocrosse
ATTACH;FMTTYPE=image/jpeg:https://hillfarmec.co.uk/wp-content/uploads/2019/07/64537924_2211069348962459_6956008365495418880_n.jpg
END:VEVENT
END:VCALENDAR