BEGIN:VCALENDAR
VERSION:2.0
PRODID:-//Hill Farm Equestrian Centre - ECPv6.15.20//NONSGML v1.0//EN
CALSCALE:GREGORIAN
METHOD:PUBLISH
X-WR-CALNAME:Hill Farm Equestrian Centre
X-ORIGINAL-URL:https://hillfarmec.co.uk
X-WR-CALDESC:Events for Hill Farm Equestrian Centre
REFRESH-INTERVAL;VALUE=DURATION:PT1H
X-Robots-Tag:noindex
X-PUBLISHED-TTL:PT1H
BEGIN:VTIMEZONE
TZID:UTC
BEGIN:STANDARD
TZOFFSETFROM:+0000
TZOFFSETTO:+0000
TZNAME:UTC
DTSTART:20180101T000000
END:STANDARD
END:VTIMEZONE
BEGIN:VEVENT
DTSTART;TZID=UTC:20211026T090000
DTEND;TZID=UTC:20211026T170000
DTSTAMP:20260424T202155
CREATED:20200924T102912Z
LAST-MODIFIED:20211006T111048Z
UID:499-1635238800-1635267600@hillfarmec.co.uk
SUMMARY:Halloween Pony Day
DESCRIPTION:All abilities and ages 5-16 years welcome. Riders will be put into small groups. Limited space available. \nEnjoy 3 hours of riding including a Halloween themed lesson\, a hack and mounted games. When the children are not riding they will be learning to care for the ponies following the Pony Club syllabus\, along with some Halloween fun and games. Halloween Fancy dress encouraged. \nActivities will be outside\, please bring appropriate clothing and footwear\, snacks\, lunch in a sealed lunch box and drinks.  \n£55 or £50 for Pony Club members. \nTo book please email hillfarmec@hotmail.co.uk
URL:https://hillfarmec.co.uk/event/halloween-half-term-pony-day/
LOCATION:Hill Farm Equestrian Centre\, Hill Farm Lane\, Chelmondiston\, Suffolk\, IP9 1JU
CATEGORIES:Pony Day
ATTACH;FMTTYPE=image/jpeg:https://hillfarmec.co.uk/wp-content/uploads/2020/09/halloween_hfec.jpg
END:VEVENT
BEGIN:VEVENT
DTSTART;TZID=UTC:20210810T090000
DTEND;TZID=UTC:20210810T170000
DTSTAMP:20260424T202155
CREATED:20210610T121937Z
LAST-MODIFIED:20210610T121937Z
UID:603-1628586000-1628614800@hillfarmec.co.uk
SUMMARY:Pony Day
DESCRIPTION:Suitable for ages 5-16\, all riding abilities catered for. Small friendly groups.  \nAt least 2 hours riding including a lesson and a hack\, plus mounted games or horse ball fun.  \nWhen not riding the children will learn how to look after the ponies following the Pony Club syllabus.  \n9am – 5pm\n£55 non pony club members\n£50 members.  \nPlease email Hazel to book hillfarmec@hotmail.co.uk
URL:https://hillfarmec.co.uk/event/pony-day-6/
LOCATION:Hill Farm Equestrian Centre\, Hill Farm Lane\, Chelmondiston\, Suffolk\, IP9 1JU
CATEGORIES:Pony Day
ATTACH;FMTTYPE=image/jpeg:https://hillfarmec.co.uk/wp-content/uploads/2019/07/14355159_1065816456821093_6148104711008489765_n.jpg
ORGANIZER;CN="HFEC":MAILTO:hillfarmec@hotmail.co.uk
END:VEVENT
BEGIN:VEVENT
DTSTART;TZID=UTC:20200414T090000
DTEND;TZID=UTC:20200414T170000
DTSTAMP:20260424T202155
CREATED:20200302T150105Z
LAST-MODIFIED:20200302T150105Z
UID:383-1586854800-1586883600@hillfarmec.co.uk
SUMMARY:Pony Day - Working Dogs Pony Club Badge
DESCRIPTION:Join us for a fun day working towards the Pony Club Working Dog Badge.  \nAll abilities welcome. For ages 5-16. Groups are ability and friendship based. Small friendly groups\, so spaces are limited. The children will also enjoy 1 hour riding lesson\, 1 hour hack and mounted games fun.  \nPlease bring a packed lunch\, snacks\, drinks\, spare clothes\, and waterproof jacket and trousers.  \n£45 PC Members\, £50 Non-PC Members. Please note: Only Pony Club Members can receive the badge.  \nEmail Hazel to book hillfarmec@hotmail.co.uk  \nFor details on Pony Club Centre Membership visit our Pony Club Centre page.
URL:https://hillfarmec.co.uk/event/pony-day-working-dogs-pony-club-badge/
LOCATION:Hill Farm Equestrian Centre\, Hill Farm Lane\, Chelmondiston\, Suffolk\, IP9 1JU
CATEGORIES:Pony Day
ATTACH;FMTTYPE=image/jpeg:https://hillfarmec.co.uk/wp-content/uploads/2020/03/working-dogs.jpg
END:VEVENT
BEGIN:VEVENT
DTSTART;TZID=UTC:20200408T090000
DTEND;TZID=UTC:20200408T170000
DTSTAMP:20260424T202155
CREATED:20200302T144628Z
LAST-MODIFIED:20200302T145157Z
UID:381-1586336400-1586365200@hillfarmec.co.uk
SUMMARY:Pony Day
DESCRIPTION:All abilities welcome. For ages 5-16. Groups are ability and friendship based. Small friendly groups\, so spaces are limited. \nThe children will enjoy 1 hour riding lesson\, 1 hour hack and mounted games fun. \nWhen the children are not riding\, they are learning how to look after the ponies following the Pony Club syllabus. \nPlease bring a packed lunch\, snacks\, drinks\, spare clothes\, and waterproof jacket and trousers.\n£45 PC Members\, £50 Non-PC Members. \nEmail Hazel to book hillfarmec@hotmail.co.uk \nFor details on Pony Club Centre Membership visit our Pony Club Centre page.
URL:https://hillfarmec.co.uk/event/pony-day-8april/
LOCATION:Hill Farm Equestrian Centre\, Hill Farm Lane\, Chelmondiston\, Suffolk\, IP9 1JU
CATEGORIES:Pony Day
ATTACH;FMTTYPE=image/jpeg:https://hillfarmec.co.uk/wp-content/uploads/2019/07/14355159_1065816456821093_6148104711008489765_n.jpg
END:VEVENT
BEGIN:VEVENT
DTSTART;TZID=UTC:20200407T090000
DTEND;TZID=UTC:20200407T170000
DTSTAMP:20260424T202155
CREATED:20200302T143100Z
LAST-MODIFIED:20200302T143552Z
UID:378-1586250000-1586278800@hillfarmec.co.uk
SUMMARY:Pony Day
DESCRIPTION:All abilities welcome. For ages 5-16. Groups are ability and friendship based. Small friendly groups\, so spaces are limited. \nThe children will enjoy 1 hour riding lesson\, 1 hour hack and mounted games fun. \nWhen the children are not riding\, they are learning how to look after the ponies following the Pony Club syllabus. \nPlease bring a packed lunch\, snacks\, drinks\, spare clothes\, and waterproof jacket and trousers.\n£45 PC Members\, £50 Non-PC Members. \nEmail Hazel to book hillfarmec@hotmail.co.uk \nFor details on Pony Club Centre Membership visit our Pony Club Centre page.
URL:https://hillfarmec.co.uk/event/pony-day-7april/
LOCATION:Hill Farm Equestrian Centre\, Hill Farm Lane\, Chelmondiston\, Suffolk\, IP9 1JU
CATEGORIES:Pony Day
ATTACH;FMTTYPE=image/jpeg:https://hillfarmec.co.uk/wp-content/uploads/2019/07/56734918_2094598093942919_2561014592591364096_n.jpg
END:VEVENT
BEGIN:VEVENT
DTSTART;TZID=UTC:20200220T090000
DTEND;TZID=UTC:20200220T170000
DTSTAMP:20260424T202155
CREATED:20200127T132559Z
LAST-MODIFIED:20200127T132559Z
UID:346-1582189200-1582218000@hillfarmec.co.uk
SUMMARY:Loading Pony Day - February Half Term
DESCRIPTION:All abilities welcome. 5-16 years. \nThe day includes 1 hour riding lesson\, 1 hour hack and mounted games fun. When the children are not riding they will be learning how to get ponies ready to load and load ponies correctly\, following the Pony Club syllabus.  \n£50 Non Pony Club Members. £45 Pony Club Members. Please note: Only pony club members can receive pony club badges.  \nBook in today – email hillfarmec@hotmail.co.uk
URL:https://hillfarmec.co.uk/event/loading-pony-day-february-half-term/
LOCATION:Hill Farm Equestrian Centre\, Hill Farm Lane\, Chelmondiston\, Suffolk\, IP9 1JU
CATEGORIES:Pony Day
ATTACH;FMTTYPE=image/jpeg:https://hillfarmec.co.uk/wp-content/uploads/2020/01/82617070_2644189682317088_6173019996185165824_n.jpg
END:VEVENT
BEGIN:VEVENT
DTSTART;TZID=UTC:20200218T090000
DTEND;TZID=UTC:20200218T170000
DTSTAMP:20260424T202155
CREATED:20200127T131322Z
LAST-MODIFIED:20200127T132651Z
UID:339-1582016400-1582045200@hillfarmec.co.uk
SUMMARY:Pony Day - February Half Term
DESCRIPTION:All abilities welcome. 5-16 years. \nThe day includes 1 hour riding lesson\, 1 hour hack and mounted games fun. When the children are not riding they are learning how to look after the ponies correctly\, following the Pony Club syllabus.  \n£50 Non Pony Club Members. £45 Pony Club Members. \nBook in today – email hillfarmec@hotmail.co.uk
URL:https://hillfarmec.co.uk/event/pony-day-february-half-term/
LOCATION:Hill Farm Equestrian Centre\, Hill Farm Lane\, Chelmondiston\, Suffolk\, IP9 1JU
CATEGORIES:Pony Day
ATTACH;FMTTYPE=image/jpeg:https://hillfarmec.co.uk/wp-content/uploads/2020/01/82494423_2644167818985941_4311491916383387648_n.jpg
END:VEVENT
BEGIN:VEVENT
DTSTART;TZID=UTC:20200103T090000
DTEND;TZID=UTC:20200103T170000
DTSTAMP:20260424T202155
CREATED:20191119T143600Z
LAST-MODIFIED:20191119T143600Z
UID:322-1578042000-1578070800@hillfarmec.co.uk
SUMMARY:Pony Day
DESCRIPTION:All abilities welcome. For ages 5-16. Groups are ability and friendship based. Small friendly groups\, so spaces are limited.   \nThe children will enjoy 1 hour riding lesson\, 1 hour hack and mounted games fun.  \nWhen the children are not riding\, they are learning how to look after the ponies following the Pony Club syllabus.  \nPlease bring a packed lunch\, snacks\, drinks\, spare clothes\, and waterproof jacket and trousers.  \n£45 PC Members\, £50 Non-PC Members. \nEmail Hazel to book hillfarmec@hotmail.co.uk \nFor details on Pony Club Centre Membership visit our Pony Club Centre page.
URL:https://hillfarmec.co.uk/event/pony-day-3/
LOCATION:Hill Farm Equestrian Centre\, Hill Farm Lane\, Chelmondiston\, Suffolk\, IP9 1JU
CATEGORIES:Pony Day
ATTACH;FMTTYPE=image/jpeg:https://hillfarmec.co.uk/wp-content/uploads/2019/09/gem.jpg
END:VEVENT
BEGIN:VEVENT
DTSTART;TZID=UTC:20191231T090000
DTEND;TZID=UTC:20191231T170000
DTSTAMP:20260424T202155
CREATED:20191119T143208Z
LAST-MODIFIED:20191119T143344Z
UID:320-1577782800-1577811600@hillfarmec.co.uk
SUMMARY:Pony Day
DESCRIPTION:All abilities welcome. For ages 5-16. Groups are ability and friendship based. Small friendly groups\, so spaces are limited.   \nThe children will enjoy 1 hour riding lesson\, 1 hour hack and mounted games fun.  \nWhen the children are not riding\, they are learning how to look after the ponies following the Pony Club syllabus.  \nPlease bring a packed lunch\, snacks\, drinks\, spare clothes\, and waterproof jacket and trousers.\n£45 PC Members\, £50 Non-PC Members. \nEmail Hazel to book hillfarmec@hotmail.co.uk \nFor details on Pony Club Centre Membership visit our Pony Club Centre page.
URL:https://hillfarmec.co.uk/event/pony-day-2/
LOCATION:Hill Farm Equestrian Centre\, Hill Farm Lane\, Chelmondiston\, Suffolk\, IP9 1JU
CATEGORIES:Pony Day
ATTACH;FMTTYPE=image/jpeg:https://hillfarmec.co.uk/wp-content/uploads/2019/07/56734918_2094598093942919_2561014592591364096_n.jpg
END:VEVENT
BEGIN:VEVENT
DTSTART;TZID=UTC:20191227T090000
DTEND;TZID=UTC:20191227T170000
DTSTAMP:20260424T202155
CREATED:20191119T142623Z
LAST-MODIFIED:20191119T143011Z
UID:315-1577437200-1577466000@hillfarmec.co.uk
SUMMARY:Pony Day
DESCRIPTION:All abilities welcome. For ages 5-16. Groups are ability and friendship based. Small friendly groups\, so spaces are limited.   \nThe children will enjoy 1 hour riding lesson\, 1 hour hack and mounted games fun.  \nWhen the children are not riding\, they are learning how to look after the ponies following the Pony Club syllabus.  \nPlease bring a packed lunch\, snacks\, drinks\, spare clothes\, and waterproof jacket and trousers. \n£45 PC Members\, £50 Non-PC Members. \nEmail Hazel to book hillfarmec@hotmail.co.uk \nFor details on Pony Club Centre Membership visit our Pony Club Centre page.
URL:https://hillfarmec.co.uk/event/pony-day/
LOCATION:Hill Farm Equestrian Centre\, Hill Farm Lane\, Chelmondiston\, Suffolk\, IP9 1JU
CATEGORIES:Pony Day
ATTACH;FMTTYPE=image/jpeg:https://hillfarmec.co.uk/wp-content/uploads/2019/11/xmas3.jpg
END:VEVENT
BEGIN:VEVENT
DTSTART;TZID=UTC:20191022T090000
DTEND;TZID=UTC:20191022T170000
DTSTAMP:20260424T202155
CREATED:20190902T165257Z
LAST-MODIFIED:20190902T171235Z
UID:271-1571734800-1571763600@hillfarmec.co.uk
SUMMARY:October Half Term Pony Day
DESCRIPTION:All abilities welcome. For ages 5-16. Groups are ability and friendship based. Small friendly groups\, so spaces are limited.   \nThe children will enjoy 1 hour riding lesson\, 1 hour hack and mounted games fun.  \nWhen the children are not riding\, they are learning how to look after the ponies following the Pony Club syllabus.  \nPlease bring a packed lunch\, snacks\, drinks\, spare clothes\, waterproof jacket and trousers\, and sun cream.   \n£45 PC Members\, £50 Non-PC Members. \nEmail Hazel to book hillfarmec@hotmail.co.uk \nFor details on Pony Club Centre Membership visit our Pony Club Centre page.
URL:https://hillfarmec.co.uk/event/october-half-term-pony-day/
LOCATION:Hill Farm Equestrian Centre\, Hill Farm Lane\, Chelmondiston\, Suffolk\, IP9 1JU
CATEGORIES:Pony Day
ATTACH;FMTTYPE=image/jpeg:https://hillfarmec.co.uk/wp-content/uploads/2019/09/hfec_1.jpg
END:VEVENT
BEGIN:VEVENT
DTSTART;TZID=UTC:20190903T090000
DTEND;TZID=UTC:20190903T170000
DTSTAMP:20260424T202155
CREATED:20190731T113025Z
LAST-MODIFIED:20190731T114931Z
UID:193-1567501200-1567530000@hillfarmec.co.uk
SUMMARY:Summer Pony Day
DESCRIPTION:All abilities welcome. For ages 5-16. Groups are ability and friendship based. Small friendly groups\, so spaces are limited.   \nThe children will enjoy 1 hour riding lesson\, 1 hour hack and mounted games or horse-ball fun. When the children are not riding\, they are learning how to look after the ponies following the Pony Club syllabus.  \nPlease bring a packed lunch\, snacks\, drinks\, spare clothes\, waterproof jacket and trousers\, and sun cream.   \n  \n£45 PC Members\, £50 Non-PC Members. \nEmail Hazel to book hillfarmec@hotmail.co.uk \nFor details on Pony Club Centre Membership visit our Pony Club Centre page.
URL:https://hillfarmec.co.uk/event/summer-pony-day-4/
LOCATION:Hill Farm Equestrian Centre\, Hill Farm Lane\, Chelmondiston\, Suffolk\, IP9 1JU
CATEGORIES:Pony Day
ATTACH;FMTTYPE=image/jpeg:https://hillfarmec.co.uk/wp-content/uploads/2019/07/56734918_2094598093942919_2561014592591364096_n.jpg
END:VEVENT
BEGIN:VEVENT
DTSTART;TZID=UTC:20190829T090000
DTEND;TZID=UTC:20190829T170000
DTSTAMP:20260424T202155
CREATED:20190731T112740Z
LAST-MODIFIED:20190731T112740Z
UID:190-1567069200-1567098000@hillfarmec.co.uk
SUMMARY:Summer Pony Day
DESCRIPTION:All abilities welcome. For ages 5-16. Groups are ability and friendship based. Small friendly groups\, so spaces are limited.   \nThe children will enjoy 1 hour riding lesson\, 1 hour hack and mounted games or horse-ball fun. When the children are not riding\, they are learning how to look after the ponies following the Pony Club syllabus.  \nPlease bring a packed lunch\, snacks\, drinks\, spare clothes\, waterproof jacket and trousers\, and sun cream.   \n  \n£45 PC Members\, £50 Non-PC Members. \nEmail Hazel to book hillfarmec@hotmail.co.uk \nFor details on Pony Club Centre Membership visit our Pony Club Centre page.
URL:https://hillfarmec.co.uk/event/summer-pony-day-3/
LOCATION:Hill Farm Equestrian Centre\, Hill Farm Lane\, Chelmondiston\, Suffolk\, IP9 1JU
CATEGORIES:Pony Day
ATTACH;FMTTYPE=image/jpeg:https://hillfarmec.co.uk/wp-content/uploads/2019/07/Hill_Farm_mucking_out.jpg
END:VEVENT
BEGIN:VEVENT
DTSTART;TZID=UTC:20190828T090000
DTEND;TZID=UTC:20190828T170000
DTSTAMP:20260424T202155
CREATED:20190731T115748Z
LAST-MODIFIED:20190731T115748Z
UID:199-1566982800-1567011600@hillfarmec.co.uk
SUMMARY:Beach Pony Day
DESCRIPTION:All ages and abilities welcome. An exciting day down at the beach with the ponies\, ride down to Harkstead beach\, have a picnic with the ponies\, and a ride in the water bareback. \nDon’t forget your picnic lunch and swimwear \n£50 non Pony Club members / £45 Pony Cub Members. \nEmail Hazel to book in hillfarmec@hotmail.co.uk
URL:https://hillfarmec.co.uk/event/beach-pony-day/
LOCATION:Hill Farm Equestrian Centre\, Hill Farm Lane\, Chelmondiston\, Suffolk\, IP9 1JU
CATEGORIES:Beach Pony Day,Pony Day
ATTACH;FMTTYPE=image/jpeg:https://hillfarmec.co.uk/wp-content/uploads/2019/07/65864493_2233538390048888_844453259736252416_n.jpg
END:VEVENT
BEGIN:VEVENT
DTSTART;TZID=UTC:20190822T090000
DTEND;TZID=UTC:20190822T170000
DTSTAMP:20260424T202155
CREATED:20190731T112141Z
LAST-MODIFIED:20190731T112427Z
UID:71-1566464400-1566493200@hillfarmec.co.uk
SUMMARY:Summer Pony Day
DESCRIPTION:All abilities welcome. For ages 5-16. Groups are ability and friendship based. Small friendly groups\, so spaces are limited.   \nThe children will enjoy 1 hour riding lesson\, 1 hour hack and mounted games or horse-ball fun. When the children are not riding\, they are learning how to look after the ponies following the Pony Club syllabus.  \nPlease bring a packed lunch\, snacks\, drinks\, spare clothes\, waterproof jacket and trousers\, and sun cream.   \n  \n£45 PC Members\, £50 Non-PC Members. \nEmail Hazel to book hillfarmec@hotmail.co.uk \nFor details on Pony Club Centre Membership visit our Pony Club Centre page.
URL:https://hillfarmec.co.uk/event/summerponyday22aug/
LOCATION:Hill Farm Equestrian Centre\, Hill Farm Lane\, Chelmondiston\, Suffolk\, IP9 1JU
CATEGORIES:Pony Day
ATTACH;FMTTYPE=image/jpeg:https://hillfarmec.co.uk/wp-content/uploads/2019/07/14355159_1065816456821093_6148104711008489765_n.jpg
END:VEVENT
BEGIN:VEVENT
DTSTART;TZID=UTC:20190814T090000
DTEND;TZID=UTC:20190814T170000
DTSTAMP:20260424T202155
CREATED:20190731T111839Z
LAST-MODIFIED:20190731T111839Z
UID:185-1565773200-1565802000@hillfarmec.co.uk
SUMMARY:Summer Pony Day
DESCRIPTION:All abilities welcome. For ages 5-16. Groups are ability and friendship based. Small friendly groups\, so spaces are limited.   \nThe children will enjoy 1 hour riding lesson\, 1 hour hack and mounted games or horse-ball fun. When the children are not riding\, they are learning how to look after the ponies following the Pony Club syllabus.  \nPlease bring a packed lunch\, snacks\, drinks\, spare clothes\, waterproof jacket and trousers\, and sun cream.   \n  \n  \n£45 PC Members\, £50 Non-PC Members. \nEmail Hazel to book: hillfarmec@hotmail.co.uk \nFor details on Pony Club Centre Membership visit our Pony Club Centre page.
URL:https://hillfarmec.co.uk/event/summer-pony-day-2/
LOCATION:Hill Farm Equestrian Centre\, Hill Farm Lane\, Chelmondiston\, Suffolk\, IP9 1JU
CATEGORIES:Pony Day
ATTACH;FMTTYPE=image/jpeg:https://hillfarmec.co.uk/wp-content/uploads/2019/07/41880514_1810342065701858_6242041632460374016_n.jpg
END:VEVENT
BEGIN:VEVENT
DTSTART;TZID=UTC:20190808T090000
DTEND;TZID=UTC:20190808T170000
DTSTAMP:20260424T202155
CREATED:20190731T105657Z
LAST-MODIFIED:20190731T105917Z
UID:181-1565254800-1565283600@hillfarmec.co.uk
SUMMARY:Summer Pony Day
DESCRIPTION:All abilities welcome. For ages 5-16. Groups are ability and friendship based. Small friendly groups\, so spaces are limited.   \nThe children will enjoy 1-hour riding lesson\, 1-hour hack and mounted games or horse-ball fun. When the children are not riding\, they are learning how to look after the ponies following the Pony Club syllabus. \nPlease bring a packed lunch\, snacks\, drinks\, spare clothes\, waterproof jacket and trousers\, and sun cream.   \nEmail Hazel to book: hillfarmec@hotmail.co.uk \nFor details on Pony Club Centre Membership visit our Pony Club Centre page.
URL:https://hillfarmec.co.uk/event/181/
LOCATION:Hill Farm Equestrian Centre\, Hill Farm Lane\, Chelmondiston\, Suffolk\, IP9 1JU
CATEGORIES:Pony Day
ATTACH;FMTTYPE=image/jpeg:https://hillfarmec.co.uk/wp-content/uploads/2019/07/31250619_1620651514670915_315461851787821056_n.jpg
END:VEVENT
BEGIN:VEVENT
DTSTART;TZID=UTC:20190806T090000
DTEND;TZID=UTC:20190806T170000
DTSTAMP:20260424T202155
CREATED:20190730T112434Z
LAST-MODIFIED:20190730T113008Z
UID:65-1565082000-1565110800@hillfarmec.co.uk
SUMMARY:Summer Pony Day
DESCRIPTION:All abilities welcome. For ages 5-16. Groups are ability and friendship based. Small friendly groups\, so spaces are limited.  The children will enjoy 1-hour riding lesson\, 1-hour hack and mounted games or horse-ball fun. When the children are not riding\, they are learning how to look after the ponies following the Pony Club syllabus. \nPlease bring a packed lunch\, snacks\, drinks\, spare clothes\, waterproof jacket and trousers\, and sun cream.   \nEmail Hazel to book: hillfarmec@hotmail.co.uk
URL:https://hillfarmec.co.uk/event/summer-pony-day/
LOCATION:Hill Farm Equestrian Centre\, Hill Farm Lane\, Chelmondiston\, Suffolk\, IP9 1JU
CATEGORIES:Pony Day
ATTACH;FMTTYPE=image/jpeg:https://hillfarmec.co.uk/wp-content/uploads/2019/07/HillFarm_Gem.jpg
END:VEVENT
END:VCALENDAR