BEGIN:VCALENDAR
VERSION:2.0
PRODID:-//Hill Farm Equestrian Centre - ECPv6.15.20//NONSGML v1.0//EN
CALSCALE:GREGORIAN
METHOD:PUBLISH
X-WR-CALNAME:Hill Farm Equestrian Centre
X-ORIGINAL-URL:https://hillfarmec.co.uk
X-WR-CALDESC:Events for Hill Farm Equestrian Centre
REFRESH-INTERVAL;VALUE=DURATION:PT1H
X-Robots-Tag:noindex
X-PUBLISHED-TTL:PT1H
BEGIN:VTIMEZONE
TZID:UTC
BEGIN:STANDARD
TZOFFSETFROM:+0000
TZOFFSETTO:+0000
TZNAME:UTC
DTSTART:20180101T000000
END:STANDARD
END:VTIMEZONE
BEGIN:VEVENT
DTSTART;TZID=UTC:20191022T090000
DTEND;TZID=UTC:20191022T170000
DTSTAMP:20260424T220337
CREATED:20190902T165257Z
LAST-MODIFIED:20190902T171235Z
UID:271-1571734800-1571763600@hillfarmec.co.uk
SUMMARY:October Half Term Pony Day
DESCRIPTION:All abilities welcome. For ages 5-16. Groups are ability and friendship based. Small friendly groups\, so spaces are limited.   \nThe children will enjoy 1 hour riding lesson\, 1 hour hack and mounted games fun.  \nWhen the children are not riding\, they are learning how to look after the ponies following the Pony Club syllabus.  \nPlease bring a packed lunch\, snacks\, drinks\, spare clothes\, waterproof jacket and trousers\, and sun cream.   \n£45 PC Members\, £50 Non-PC Members. \nEmail Hazel to book hillfarmec@hotmail.co.uk \nFor details on Pony Club Centre Membership visit our Pony Club Centre page.
URL:https://hillfarmec.co.uk/event/october-half-term-pony-day/
LOCATION:Hill Farm Equestrian Centre\, Hill Farm Lane\, Chelmondiston\, Suffolk\, IP9 1JU
CATEGORIES:Pony Day
ATTACH;FMTTYPE=image/jpeg:https://hillfarmec.co.uk/wp-content/uploads/2019/09/hfec_1.jpg
END:VEVENT
BEGIN:VEVENT
DTSTART;TZID=UTC:20190903T090000
DTEND;TZID=UTC:20190903T170000
DTSTAMP:20260424T220337
CREATED:20190731T113025Z
LAST-MODIFIED:20190731T114931Z
UID:193-1567501200-1567530000@hillfarmec.co.uk
SUMMARY:Summer Pony Day
DESCRIPTION:All abilities welcome. For ages 5-16. Groups are ability and friendship based. Small friendly groups\, so spaces are limited.   \nThe children will enjoy 1 hour riding lesson\, 1 hour hack and mounted games or horse-ball fun. When the children are not riding\, they are learning how to look after the ponies following the Pony Club syllabus.  \nPlease bring a packed lunch\, snacks\, drinks\, spare clothes\, waterproof jacket and trousers\, and sun cream.   \n  \n£45 PC Members\, £50 Non-PC Members. \nEmail Hazel to book hillfarmec@hotmail.co.uk \nFor details on Pony Club Centre Membership visit our Pony Club Centre page.
URL:https://hillfarmec.co.uk/event/summer-pony-day-4/
LOCATION:Hill Farm Equestrian Centre\, Hill Farm Lane\, Chelmondiston\, Suffolk\, IP9 1JU
CATEGORIES:Pony Day
ATTACH;FMTTYPE=image/jpeg:https://hillfarmec.co.uk/wp-content/uploads/2019/07/56734918_2094598093942919_2561014592591364096_n.jpg
END:VEVENT
BEGIN:VEVENT
DTSTART;TZID=UTC:20190829T090000
DTEND;TZID=UTC:20190829T170000
DTSTAMP:20260424T220337
CREATED:20190731T112740Z
LAST-MODIFIED:20190731T112740Z
UID:190-1567069200-1567098000@hillfarmec.co.uk
SUMMARY:Summer Pony Day
DESCRIPTION:All abilities welcome. For ages 5-16. Groups are ability and friendship based. Small friendly groups\, so spaces are limited.   \nThe children will enjoy 1 hour riding lesson\, 1 hour hack and mounted games or horse-ball fun. When the children are not riding\, they are learning how to look after the ponies following the Pony Club syllabus.  \nPlease bring a packed lunch\, snacks\, drinks\, spare clothes\, waterproof jacket and trousers\, and sun cream.   \n  \n£45 PC Members\, £50 Non-PC Members. \nEmail Hazel to book hillfarmec@hotmail.co.uk \nFor details on Pony Club Centre Membership visit our Pony Club Centre page.
URL:https://hillfarmec.co.uk/event/summer-pony-day-3/
LOCATION:Hill Farm Equestrian Centre\, Hill Farm Lane\, Chelmondiston\, Suffolk\, IP9 1JU
CATEGORIES:Pony Day
ATTACH;FMTTYPE=image/jpeg:https://hillfarmec.co.uk/wp-content/uploads/2019/07/Hill_Farm_mucking_out.jpg
END:VEVENT
BEGIN:VEVENT
DTSTART;TZID=UTC:20190828T090000
DTEND;TZID=UTC:20190828T170000
DTSTAMP:20260424T220337
CREATED:20190731T115748Z
LAST-MODIFIED:20190731T115748Z
UID:199-1566982800-1567011600@hillfarmec.co.uk
SUMMARY:Beach Pony Day
DESCRIPTION:All ages and abilities welcome. An exciting day down at the beach with the ponies\, ride down to Harkstead beach\, have a picnic with the ponies\, and a ride in the water bareback. \nDon’t forget your picnic lunch and swimwear \n£50 non Pony Club members / £45 Pony Cub Members. \nEmail Hazel to book in hillfarmec@hotmail.co.uk
URL:https://hillfarmec.co.uk/event/beach-pony-day/
LOCATION:Hill Farm Equestrian Centre\, Hill Farm Lane\, Chelmondiston\, Suffolk\, IP9 1JU
CATEGORIES:Beach Pony Day,Pony Day
ATTACH;FMTTYPE=image/jpeg:https://hillfarmec.co.uk/wp-content/uploads/2019/07/65864493_2233538390048888_844453259736252416_n.jpg
END:VEVENT
BEGIN:VEVENT
DTSTART;TZID=UTC:20190822T090000
DTEND;TZID=UTC:20190822T170000
DTSTAMP:20260424T220337
CREATED:20190731T112141Z
LAST-MODIFIED:20190731T112427Z
UID:71-1566464400-1566493200@hillfarmec.co.uk
SUMMARY:Summer Pony Day
DESCRIPTION:All abilities welcome. For ages 5-16. Groups are ability and friendship based. Small friendly groups\, so spaces are limited.   \nThe children will enjoy 1 hour riding lesson\, 1 hour hack and mounted games or horse-ball fun. When the children are not riding\, they are learning how to look after the ponies following the Pony Club syllabus.  \nPlease bring a packed lunch\, snacks\, drinks\, spare clothes\, waterproof jacket and trousers\, and sun cream.   \n  \n£45 PC Members\, £50 Non-PC Members. \nEmail Hazel to book hillfarmec@hotmail.co.uk \nFor details on Pony Club Centre Membership visit our Pony Club Centre page.
URL:https://hillfarmec.co.uk/event/summerponyday22aug/
LOCATION:Hill Farm Equestrian Centre\, Hill Farm Lane\, Chelmondiston\, Suffolk\, IP9 1JU
CATEGORIES:Pony Day
ATTACH;FMTTYPE=image/jpeg:https://hillfarmec.co.uk/wp-content/uploads/2019/07/14355159_1065816456821093_6148104711008489765_n.jpg
END:VEVENT
BEGIN:VEVENT
DTSTART;TZID=UTC:20190814T090000
DTEND;TZID=UTC:20190814T170000
DTSTAMP:20260424T220337
CREATED:20190731T111839Z
LAST-MODIFIED:20190731T111839Z
UID:185-1565773200-1565802000@hillfarmec.co.uk
SUMMARY:Summer Pony Day
DESCRIPTION:All abilities welcome. For ages 5-16. Groups are ability and friendship based. Small friendly groups\, so spaces are limited.   \nThe children will enjoy 1 hour riding lesson\, 1 hour hack and mounted games or horse-ball fun. When the children are not riding\, they are learning how to look after the ponies following the Pony Club syllabus.  \nPlease bring a packed lunch\, snacks\, drinks\, spare clothes\, waterproof jacket and trousers\, and sun cream.   \n  \n  \n£45 PC Members\, £50 Non-PC Members. \nEmail Hazel to book: hillfarmec@hotmail.co.uk \nFor details on Pony Club Centre Membership visit our Pony Club Centre page.
URL:https://hillfarmec.co.uk/event/summer-pony-day-2/
LOCATION:Hill Farm Equestrian Centre\, Hill Farm Lane\, Chelmondiston\, Suffolk\, IP9 1JU
CATEGORIES:Pony Day
ATTACH;FMTTYPE=image/jpeg:https://hillfarmec.co.uk/wp-content/uploads/2019/07/41880514_1810342065701858_6242041632460374016_n.jpg
END:VEVENT
BEGIN:VEVENT
DTSTART;TZID=UTC:20190808T090000
DTEND;TZID=UTC:20190808T170000
DTSTAMP:20260424T220337
CREATED:20190731T105657Z
LAST-MODIFIED:20190731T105917Z
UID:181-1565254800-1565283600@hillfarmec.co.uk
SUMMARY:Summer Pony Day
DESCRIPTION:All abilities welcome. For ages 5-16. Groups are ability and friendship based. Small friendly groups\, so spaces are limited.   \nThe children will enjoy 1-hour riding lesson\, 1-hour hack and mounted games or horse-ball fun. When the children are not riding\, they are learning how to look after the ponies following the Pony Club syllabus. \nPlease bring a packed lunch\, snacks\, drinks\, spare clothes\, waterproof jacket and trousers\, and sun cream.   \nEmail Hazel to book: hillfarmec@hotmail.co.uk \nFor details on Pony Club Centre Membership visit our Pony Club Centre page.
URL:https://hillfarmec.co.uk/event/181/
LOCATION:Hill Farm Equestrian Centre\, Hill Farm Lane\, Chelmondiston\, Suffolk\, IP9 1JU
CATEGORIES:Pony Day
ATTACH;FMTTYPE=image/jpeg:https://hillfarmec.co.uk/wp-content/uploads/2019/07/31250619_1620651514670915_315461851787821056_n.jpg
END:VEVENT
BEGIN:VEVENT
DTSTART;TZID=UTC:20190806T090000
DTEND;TZID=UTC:20190806T170000
DTSTAMP:20260424T220337
CREATED:20190730T112434Z
LAST-MODIFIED:20190730T113008Z
UID:65-1565082000-1565110800@hillfarmec.co.uk
SUMMARY:Summer Pony Day
DESCRIPTION:All abilities welcome. For ages 5-16. Groups are ability and friendship based. Small friendly groups\, so spaces are limited.  The children will enjoy 1-hour riding lesson\, 1-hour hack and mounted games or horse-ball fun. When the children are not riding\, they are learning how to look after the ponies following the Pony Club syllabus. \nPlease bring a packed lunch\, snacks\, drinks\, spare clothes\, waterproof jacket and trousers\, and sun cream.   \nEmail Hazel to book: hillfarmec@hotmail.co.uk
URL:https://hillfarmec.co.uk/event/summer-pony-day/
LOCATION:Hill Farm Equestrian Centre\, Hill Farm Lane\, Chelmondiston\, Suffolk\, IP9 1JU
CATEGORIES:Pony Day
ATTACH;FMTTYPE=image/jpeg:https://hillfarmec.co.uk/wp-content/uploads/2019/07/HillFarm_Gem.jpg
END:VEVENT
END:VCALENDAR