BEGIN:VCALENDAR
VERSION:2.0
PRODID:-//Hill Farm Equestrian Centre - ECPv6.15.20//NONSGML v1.0//EN
CALSCALE:GREGORIAN
METHOD:PUBLISH
X-WR-CALNAME:Hill Farm Equestrian Centre
X-ORIGINAL-URL:https://hillfarmec.co.uk
X-WR-CALDESC:Events for Hill Farm Equestrian Centre
REFRESH-INTERVAL;VALUE=DURATION:PT1H
X-Robots-Tag:noindex
X-PUBLISHED-TTL:PT1H
BEGIN:VTIMEZONE
TZID:UTC
BEGIN:STANDARD
TZOFFSETFROM:+0000
TZOFFSETTO:+0000
TZNAME:UTC
DTSTART:20240101T000000
END:STANDARD
END:VTIMEZONE
BEGIN:VEVENT
DTSTART;TZID=UTC:20250820T090000
DTEND;TZID=UTC:20250824T170000
DTSTAMP:20260424T185931
CREATED:20210610T115842Z
LAST-MODIFIED:20250714T101111Z
UID:598-1755680400-1756054800@hillfarmec.co.uk
SUMMARY:Pony Club Tetrathlon
DESCRIPTION:TETRATHLON. \nTetrathlon is coming to Hill Farm EC August 20th to 24th.\nPony Club Tetrathlon is very much like Modern Pentathlon\, which some of you may have seen at the Olympics. Tetrathlon provides members with a challenging competition\, requiring sound practical horsemanship and general athletic ability.\nThere are 4 elements to the competition Running\, Swimming\, Shooting and Riding x country.\nAt Hill Farm EC we are offering 5 days full of Fun\, Riding\, Jumping lessons\, camping\, laughs\, training\, team work and finishing off with a Tetrathlon competition. The children will have the same horse/pony for the 5 days.\nCamp nights Friday and Saturday. Food provided ( please let Hazel know of dietary needs) \nFor ages 8-24 years. Riders must be able to trot\, canter and jump. Novices welcome. Riders will be put into small groups. Limited space available. \nPlease dress for the weather. Lessons will still go ahead in wet weather\, a waterproof coat and trousers and a spare set of clothes are recommend. Sun cream is also advised. \nIf you are using your own riding hats it must conform to the current hat standards. This will be checked on your arrival. If you do not have your own hat\, hats are available. Body protectors and ridding boots must be worn. \nPlease bring a packed lunch\, snacks and drinks in sealed containers. \nTo book email Hazel at hillfarmec@hotmail.co.uk
URL:https://hillfarmec.co.uk/event/pony-day-5/
LOCATION:Hill Farm Equestrian Centre\, Hill Farm Lane\, Chelmondiston\, Suffolk\, IP9 1JU
CATEGORIES:Tetrathlon
ATTACH;FMTTYPE=image/jpeg:https://hillfarmec.co.uk/wp-content/uploads/2019/07/41880514_1810342065701858_6242041632460374016_n.jpg
END:VEVENT
END:VCALENDAR