BEGIN:VCALENDAR
VERSION:2.0
PRODID:-//Hill Farm Equestrian Centre - ECPv6.15.20//NONSGML v1.0//EN
CALSCALE:GREGORIAN
METHOD:PUBLISH
X-ORIGINAL-URL:https://hillfarmec.co.uk
X-WR-CALDESC:Events for Hill Farm Equestrian Centre
REFRESH-INTERVAL;VALUE=DURATION:PT1H
X-Robots-Tag:noindex
X-PUBLISHED-TTL:PT1H
BEGIN:VTIMEZONE
TZID:UTC
BEGIN:STANDARD
TZOFFSETFROM:+0000
TZOFFSETTO:+0000
TZNAME:UTC
DTSTART:20180101T000000
END:STANDARD
END:VTIMEZONE
BEGIN:VEVENT
DTSTART;TZID=UTC:20190927T110000
DTEND;TZID=UTC:20190928T153000
DTSTAMP:20260425T003838
CREATED:20190920T151347Z
LAST-MODIFIED:20190920T151347Z
UID:288-1569582000-1569684600@hillfarmec.co.uk
SUMMARY:Macmillan Coffee Morning & Pony Grooming
DESCRIPTION:Come and join us for coffee and cake in support of Macmillan and all the wonderful work they do. You can also meet our ponies and enjoy some pony grooming!  \nLove baking? A free riding voucher will be awarded for the best cake!   \nWe look forward to welcoming you.   \nPony Grooming Times: \nFriday 11:30am-1pm\nSaturday 11am-3:30pm (no grooming during the ponies lunch time 1:30-2:30pm)
URL:https://hillfarmec.co.uk/event/macmillan-coffee-morning-pony-grooming/
LOCATION:Hill Farm Equestrian Centre\, Hill Farm Lane\, Chelmondiston\, Suffolk\, IP9 1JU
CATEGORIES:Charity,Fun Day,Tots
ATTACH;FMTTYPE=image/jpeg:https://hillfarmec.co.uk/wp-content/uploads/2019/09/42675676_1824803170922414_996573205994930176_n.jpg
END:VEVENT
BEGIN:VEVENT
DTSTART;TZID=UTC:20190806T113000
DTEND;TZID=UTC:20190806T130000
DTSTAMP:20260425T003838
CREATED:20190730T113823Z
LAST-MODIFIED:20190730T113917Z
UID:72-1565091000-1565096400@hillfarmec.co.uk
SUMMARY:Teddy Bear Picnic Ride
DESCRIPTION:If you go down to Hill Farm today\, you’re sure of a big surprise! \nFun grooming session and picnic hack for children aged 3 – 6 years and their teddies. \nPlease bring a light picnic lunch. Parents or guardians are required to stay. \nPrize for best dressed teddy! \n£15 per child. Teddies & Adults Free. Limited spaces available. Email Hazel to book. hillfarmec@hotmail.co.uk
URL:https://hillfarmec.co.uk/event/teddy-bear-picnic-ride/
LOCATION:Hill Farm Equestrian Centre\, Hill Farm Lane\, Chelmondiston\, Suffolk\, IP9 1JU
CATEGORIES:Tots
ATTACH;FMTTYPE=image/jpeg:https://hillfarmec.co.uk/wp-content/uploads/2019/07/65641474_2230829200319807_4043069319515471872_o.jpg
END:VEVENT
END:VCALENDAR